BEGIN:VCALENDAR
VERSION:2.0
PRODID:-//Centrum Kociánka - ECPv6.3.5//NONSGML v1.0//EN
CALSCALE:GREGORIAN
METHOD:PUBLISH
X-WR-CALNAME:Centrum Kociánka
X-ORIGINAL-URL:https://www.centrumkocianka.cz
X-WR-CALDESC:Akce na Centrum Kociánka
REFRESH-INTERVAL;VALUE=DURATION:PT1H
X-Robots-Tag:noindex
X-PUBLISHED-TTL:PT1H
BEGIN:VTIMEZONE
TZID:Europe/Prague
BEGIN:DAYLIGHT
TZOFFSETFROM:+0100
TZOFFSETTO:+0200
TZNAME:CEST
DTSTART:20240331T010000
END:DAYLIGHT
BEGIN:STANDARD
TZOFFSETFROM:+0200
TZOFFSETTO:+0100
TZNAME:CET
DTSTART:20241027T010000
END:STANDARD
BEGIN:DAYLIGHT
TZOFFSETFROM:+0100
TZOFFSETTO:+0200
TZNAME:CEST
DTSTART:20250330T010000
END:DAYLIGHT
BEGIN:STANDARD
TZOFFSETFROM:+0200
TZOFFSETTO:+0100
TZNAME:CET
DTSTART:20251026T010000
END:STANDARD
BEGIN:DAYLIGHT
TZOFFSETFROM:+0100
TZOFFSETTO:+0200
TZNAME:CEST
DTSTART:20260329T010000
END:DAYLIGHT
BEGIN:STANDARD
TZOFFSETFROM:+0200
TZOFFSETTO:+0100
TZNAME:CET
DTSTART:20261025T010000
END:STANDARD
TZID:Europe/Paris
BEGIN:DAYLIGHT
TZOFFSETFROM:+0100
TZOFFSETTO:+0200
TZNAME:CEST
DTSTART:20230326T010000
END:DAYLIGHT
BEGIN:STANDARD
TZOFFSETFROM:+0200
TZOFFSETTO:+0100
TZNAME:CET
DTSTART:20231029T010000
END:STANDARD
BEGIN:DAYLIGHT
TZOFFSETFROM:+0100
TZOFFSETTO:+0200
TZNAME:CEST
DTSTART:20240331T010000
END:DAYLIGHT
BEGIN:STANDARD
TZOFFSETFROM:+0200
TZOFFSETTO:+0100
TZNAME:CET
DTSTART:20241027T010000
END:STANDARD
END:VTIMEZONE
BEGIN:VEVENT
DTSTART;TZID=Europe/Prague:20260326T100000
DTEND;TZID=Europe/Prague:20260326T150000
DTSTAMP:20260423T122904
CREATED:20260316T070239Z
LAST-MODIFIED:20260316T070404Z
UID:14773-1774519200-1774537200@www.centrumkocianka.cz
SUMMARY:Velikonoční prodejní výstava STD
DESCRIPTION:Sociálně terapeutické dílny si opět připravily spoustu krásných výrobků k zakoupení.  Dobroty z hipoterapie potěší naše chuťové pohárky a dílničkami z Moravského zemského muzea zase procvičíme naše ruce. Ladíme se velikonočně. Přijďte!
URL:https://www.centrumkocianka.cz/akce/14773/
LOCATION:Centrum Kociánka\, Kociánka 93/2\, Brno
END:VEVENT
BEGIN:VEVENT
DTSTART;TZID=Europe/Prague:20260321T150000
DTEND;TZID=Europe/Prague:20260321T160000
DTSTAMP:20260423T122904
CREATED:20260203T125448Z
LAST-MODIFIED:20260203T125448Z
UID:14651-1774105200-1774108800@www.centrumkocianka.cz
SUMMARY:Koncert kanadského školního orchestru
DESCRIPTION:Vystoupení symfonického a jazzového orchestru z Bow Valley High School z Kanady.
URL:https://www.centrumkocianka.cz/akce/koncert-kanadskeho-skolniho-orchestru/
END:VEVENT
BEGIN:VEVENT
DTSTART;TZID=Europe/Prague:20260319T103000
DTEND;TZID=Europe/Prague:20260319T163000
DTSTAMP:20260423T122904
CREATED:20260213T104111Z
LAST-MODIFIED:20260316T063735Z
UID:14700-1773916200-1773937800@www.centrumkocianka.cz
SUMMARY:Promítání filmu Cesty Kociánkou
DESCRIPTION:  \n \nPřijďte zhlédnout dokument a medailonky jednotlivých účastníků\, našich klientů\, filmového workshopu pod vedením Petra Kačírka.
URL:https://www.centrumkocianka.cz/akce/promitani-filmu-cesty-kociankou/
END:VEVENT
BEGIN:VEVENT
DTSTART;TZID=Europe/Prague:20260224T160000
DTEND;TZID=Europe/Prague:20260224T190000
DTSTAMP:20260423T122904
CREATED:20260220T103628Z
LAST-MODIFIED:20260220T104602Z
UID:14708-1771948800-1771959600@www.centrumkocianka.cz
SUMMARY:Disco karneval
DESCRIPTION:Masky\, skvělá hudba\, soutěže o sladké ceny! To vše a mnohem více můžete zažít na našem disco karnevalu.
URL:https://www.centrumkocianka.cz/akce/disco-karneval/
LOCATION:Centrum Kociánka tělocvična\, Kociánka 93/2\, Brno\, 61247\, Česká republika
END:VEVENT
BEGIN:VEVENT
DTSTART;TZID=Europe/Prague:20251211T100000
DTEND;TZID=Europe/Prague:20251211T180000
DTSTAMP:20260423T122904
CREATED:20251203T121905Z
LAST-MODIFIED:20251203T121905Z
UID:14577-1765447200-1765476000@www.centrumkocianka.cz
SUMMARY:Vánoce na Kociánce
DESCRIPTION:Přijďte načerpat vánoční atmosféru Kociánky. Těšte se na ochutnávku cukroví i kulturní program.
URL:https://www.centrumkocianka.cz/akce/vanoce-na-kociance-4/
LOCATION:Centrum Kociánka\, velká tělocvična\, Brno
ATTACH;FMTTYPE=image/png:https://www.centrumkocianka.cz/wp-content/uploads/2025/12/Vanoce-na-Kociance-1-scaled.png
END:VEVENT
BEGIN:VEVENT
DTSTART;TZID=Europe/Prague:20251125T140000
DTEND;TZID=Europe/Prague:20251125T160000
DTSTAMP:20260423T122904
CREATED:20251120T125131Z
LAST-MODIFIED:20251120T125131Z
UID:14558-1764079200-1764086400@www.centrumkocianka.cz
SUMMARY:Tvoření advetních věnců
DESCRIPTION:Zveme Vás 25. listopadu na adventní tvoření. Budeme se na Vás těšit od 14:00 do 16:00 ve velkém sále na zámečku.
URL:https://www.centrumkocianka.cz/akce/tvoreni-advetnich-vencu/
LOCATION:zámeček Centrum Kociánka\, Brno
ATTACH;FMTTYPE=image/jpeg:https://www.centrumkocianka.cz/wp-content/uploads/2025/11/Tvoreni-vencu-a-svicnu-2025-scaled.jpg
END:VEVENT
BEGIN:VEVENT
DTSTART;TZID=Europe/Prague:20251111T163000
DTEND;TZID=Europe/Prague:20251111T180000
DTSTAMP:20260423T122904
CREATED:20251104T124014Z
LAST-MODIFIED:20251104T124014Z
UID:14515-1762878600-1762884000@www.centrumkocianka.cz
SUMMARY:Svatomartinský průvod
DESCRIPTION:
URL:https://www.centrumkocianka.cz/akce/svatomartinsky-pruvod/
LOCATION:Centrum Kociánka\, Kociánka 93/2\, Brno
ATTACH;FMTTYPE=image/jpeg:https://www.centrumkocianka.cz/wp-content/uploads/2025/11/PLAKAT-NA-SVATOMARTINSKY-PRUVOD-2025-scaled.jpg
END:VEVENT
BEGIN:VEVENT
DTSTART;TZID=Europe/Prague:20251015T140000
DTEND;TZID=Europe/Prague:20251015T170000
DTSTAMP:20260423T122904
CREATED:20251001T125057Z
LAST-MODIFIED:20251001T125057Z
UID:14501-1760536800-1760547600@www.centrumkocianka.cz
SUMMARY:MOŠTÁRNA
DESCRIPTION:
URL:https://www.centrumkocianka.cz/akce/mostarna-2/
LOCATION:Centrum Kociánka\, Kociánka 93/2\, Brno
CATEGORIES:Události
ATTACH;FMTTYPE=image/jpeg:https://www.centrumkocianka.cz/wp-content/uploads/2025/09/plakat-MOSTARNA-2025-scaled.jpg
END:VEVENT
BEGIN:VEVENT
DTSTART;TZID=Europe/Prague:20251009T090000
DTEND;TZID=Europe/Prague:20251009T110000
DTSTAMP:20260423T122904
CREATED:20251001T125430Z
LAST-MODIFIED:20251001T125430Z
UID:14503-1760000400-1760007600@www.centrumkocianka.cz
SUMMARY:DÝŇOVÁNÍ
DESCRIPTION:
URL:https://www.centrumkocianka.cz/akce/dynovani-5/
LOCATION:Centrum Kociánka\, Kociánka 93/2\, Brno
CATEGORIES:Události
ATTACH;FMTTYPE=image/jpeg:https://www.centrumkocianka.cz/wp-content/uploads/2025/09/DYNOVANI-2025-scaled.jpg
END:VEVENT
BEGIN:VEVENT
DTSTART;VALUE=DATE:20250529
DTEND;VALUE=DATE:20250530
DTSTAMP:20260423T122904
CREATED:20250318T143308Z
LAST-MODIFIED:20250506T121544Z
UID:14132-1748476800-1748563199@www.centrumkocianka.cz
SUMMARY:Dobrý den Kociánko
DESCRIPTION:
URL:https://www.centrumkocianka.cz/akce/dobry-den-kocianko-9/
LOCATION:Centrum Kociánka\, Kociánka 93/2\, Brno
ATTACH;FMTTYPE=image/png:https://www.centrumkocianka.cz/wp-content/uploads/2025/03/dobry-den-kocianko_2025_digi-scaled.png
END:VEVENT
BEGIN:VEVENT
DTSTART;TZID=Europe/Prague:20250408T090000
DTEND;TZID=Europe/Prague:20250408T143000
DTSTAMP:20260423T122904
CREATED:20250318T143131Z
LAST-MODIFIED:20250318T143131Z
UID:14129-1744102800-1744122600@www.centrumkocianka.cz
SUMMARY:Velikonoční prodejní výstava STD Brno
DESCRIPTION:
URL:https://www.centrumkocianka.cz/akce/velikonocni-prodejni-vystava-std-brno/
LOCATION:Centrum Kociánka Zámeček\, Kociánka 93/2\, Brno\, 61247
ATTACH;FMTTYPE=image/jpeg:https://www.centrumkocianka.cz/wp-content/uploads/2025/03/2025-STD-Velikonocni-prodejni-vystava-3-scaled.jpg
END:VEVENT
BEGIN:VEVENT
DTSTART;TZID=Europe/Prague:20241128T100000
DTEND;TZID=Europe/Prague:20241128T180000
DTSTAMP:20260423T122904
CREATED:20241105T150223Z
LAST-MODIFIED:20241105T150223Z
UID:13959-1732788000-1732816800@www.centrumkocianka.cz
SUMMARY:Vánoce na Kociánce
DESCRIPTION:
URL:https://www.centrumkocianka.cz/akce/vanoce-na-kociance-3/
LOCATION:Centrum Kociánka tělocvična\, Kociánka 93/2\, Brno\, 61247\, Česká republika
CATEGORIES:Události
ATTACH;FMTTYPE=image/jpeg:https://www.centrumkocianka.cz/wp-content/uploads/2024/11/Vanoce-na-Kociance-2025-scaled.jpg
END:VEVENT
BEGIN:VEVENT
DTSTART;TZID=Europe/Prague:20241011T083000
DTEND;TZID=Europe/Prague:20241011T110000
DTSTAMP:20260423T122904
CREATED:20240917T123950Z
LAST-MODIFIED:20240917T123950Z
UID:13906-1728635400-1728644400@www.centrumkocianka.cz
SUMMARY:Dýňování
DESCRIPTION:
URL:https://www.centrumkocianka.cz/akce/dynovani-4/
LOCATION:Centrum Kociánka (hipoterapie)\, Kociánka 93/2\, Brno\, 61247
END:VEVENT
BEGIN:VEVENT
DTSTART;TZID=Europe/Prague:20241009T090000
DTEND;TZID=Europe/Prague:20241009T140000
DTSTAMP:20260423T122904
CREATED:20240917T124301Z
LAST-MODIFIED:20240917T124301Z
UID:13908-1728464400-1728482400@www.centrumkocianka.cz
SUMMARY:Den otevřených dveří + dílnička STD
DESCRIPTION:
URL:https://www.centrumkocianka.cz/akce/den-otevrenych-dveri-dilnicka-std/
LOCATION:Centrum Kociánka\, Kociánka 93/2\, Brno
END:VEVENT
BEGIN:VEVENT
DTSTART;TZID=Europe/Prague:20240919T140000
DTEND;TZID=Europe/Prague:20240919T170000
DTSTAMP:20260423T122904
CREATED:20240911T130032Z
LAST-MODIFIED:20240917T123901Z
UID:13900-1726754400-1726765200@www.centrumkocianka.cz
SUMMARY:Obilňák fest 2024 ZRUŠENO
DESCRIPTION:Stánek a prezentace naší služby Sociálně terapeutické dílny. \nFacebooková událost zde.
URL:https://www.centrumkocianka.cz/akce/obilnak-fest-2024/
LOCATION:Obilní trh\, Obilní trh\, Brno\, Česká republika
END:VEVENT
BEGIN:VEVENT
DTSTART;TZID=Europe/Prague:20240911T150000
DTEND;TZID=Europe/Prague:20240911T170000
DTSTAMP:20260423T122904
CREATED:20240905T130652Z
LAST-MODIFIED:20240905T130652Z
UID:13885-1726066800-1726074000@www.centrumkocianka.cz
SUMMARY:Veteráni pro Kociánku
DESCRIPTION:
URL:https://www.centrumkocianka.cz/akce/veterani-pro-kocianku-12/
LOCATION:Centrum Kociánka\, Kociánka 93/2\, Brno
END:VEVENT
BEGIN:VEVENT
DTSTART;TZID=Europe/Prague:20240619T180000
DTEND;TZID=Europe/Prague:20240619T193000
DTSTAMP:20260423T122904
CREATED:20240610T131358Z
LAST-MODIFIED:20240610T131358Z
UID:13625-1718820000-1718825400@www.centrumkocianka.cz
SUMMARY:SAKO Brno běh pro Kociánku
DESCRIPTION:
URL:https://www.centrumkocianka.cz/akce/sako-brno-beh-pro-kocianku/
LOCATION:Výletní hospoda Zamilec\, Brno\, Jihomoravský kraj\, Česká republika
ATTACH;FMTTYPE=image/jpeg:https://www.centrumkocianka.cz/wp-content/uploads/2024/06/sako-brno-beh-pro-kocianku-scaled.jpg
END:VEVENT
BEGIN:VEVENT
DTSTART;TZID=Europe/Prague:20240619T090000
DTEND;TZID=Europe/Prague:20240619T153000
DTSTAMP:20260423T122904
CREATED:20240610T131556Z
LAST-MODIFIED:20240610T131556Z
UID:13629-1718787600-1718811000@www.centrumkocianka.cz
SUMMARY:Štafetový maraton na kolečkách
DESCRIPTION:
URL:https://www.centrumkocianka.cz/akce/stafetovy-maraton-na-koleckach-3/
LOCATION:Centrum Kociánka\, Kociánka 93/2\, Brno
ATTACH;FMTTYPE=image/jpeg:https://www.centrumkocianka.cz/wp-content/uploads/2024/06/maraton-na-koleckach-2024-scaled.jpg
END:VEVENT
BEGIN:VEVENT
DTSTART;TZID=Europe/Paris:20240530T100000
DTEND;TZID=Europe/Paris:20240530T210000
DTSTAMP:20260423T122904
CREATED:20240321T133557Z
LAST-MODIFIED:20240321T133557Z
UID:12968-1717063200-1717102800@www.centrumkocianka.cz
SUMMARY:Dobrý den Kociánko
DESCRIPTION:
URL:https://www.centrumkocianka.cz/akce/dobry-den-kocianko-8/
LOCATION:Centrum Kociánka\, Kociánka 93/2\, Brno
CATEGORIES:Události
END:VEVENT
BEGIN:VEVENT
DTSTART;TZID=Europe/Prague:20240518T100000
DTEND;TZID=Europe/Prague:20240518T180000
DTSTAMP:20260423T122904
CREATED:20240510T113155Z
LAST-MODIFIED:20240510T113155Z
UID:13583-1716026400-1716055200@www.centrumkocianka.cz
SUMMARY:Open House
DESCRIPTION:https://openhousebrno.cz/cs/centrum-kocianka  \nplakát zde 
URL:https://www.centrumkocianka.cz/akce/open-house/
LOCATION:Centrum Kociánka\, Kociánka 93/2\, Brno
CATEGORIES:Události
ATTACH;FMTTYPE=image/jpeg:https://www.centrumkocianka.cz/wp-content/uploads/2024/05/open-house-24.jpg
END:VEVENT
BEGIN:VEVENT
DTSTART;TZID=Europe/Paris:20240328T090000
DTEND;TZID=Europe/Paris:20240328T150000
DTSTAMP:20260423T122904
CREATED:20240118T103009Z
LAST-MODIFIED:20240118T103009Z
UID:10432-1711616400-1711638000@www.centrumkocianka.cz
SUMMARY:Velikonoční prodejní výstava STD
DESCRIPTION:
URL:https://www.centrumkocianka.cz/akce/velikonocni-prodejni-vystava-std-2/
LOCATION:Centrum Kociánka Zámeček\, Kociánka 93/2\, Brno\, 61247
CATEGORIES:Události
ATTACH;FMTTYPE=image/jpeg:https://www.centrumkocianka.cz/wp-content/uploads/2024/01/navrh-1-aktualizace-STD-Velikonoce-2024.jpg
END:VEVENT
BEGIN:VEVENT
DTSTART;TZID=Europe/Paris:20240314T190000
DTEND;TZID=Europe/Paris:20240314T233000
DTSTAMP:20260423T122904
CREATED:20240118T143410Z
LAST-MODIFIED:20240118T143410Z
UID:10438-1710442800-1710459000@www.centrumkocianka.cz
SUMMARY:Jarní ples 2024
DESCRIPTION:
URL:https://www.centrumkocianka.cz/akce/jarni-ples-4/
LOCATION:Kulturní centrum Semilasso\, Brno
CATEGORIES:Události
ATTACH;FMTTYPE=image/jpeg:https://www.centrumkocianka.cz/wp-content/uploads/2024/01/plakat-Ples-2024-aktualizace.jpg
END:VEVENT
BEGIN:VEVENT
DTSTART;TZID=Europe/Paris:20240308T200000
DTEND;TZID=Europe/Paris:20240308T233000
DTSTAMP:20260423T122904
CREATED:20240130T153303Z
LAST-MODIFIED:20240130T153303Z
UID:10469-1709928000-1709940600@www.centrumkocianka.cz
SUMMARY:22. Charitativní ples pracoviště Březejc
DESCRIPTION:
URL:https://www.centrumkocianka.cz/akce/22-charitativni-ples-pracoviste-brezejc/
LOCATION:Jupiter Club\, Náměstí 17\, Velké Meziříčí\, 59401
CATEGORIES:Události
ATTACH;FMTTYPE=image/jpeg:https://www.centrumkocianka.cz/wp-content/uploads/2024/01/brezejc-ples-2024.jpg
END:VEVENT
BEGIN:VEVENT
DTSTART;TZID=Europe/Paris:20231218T183000
DTEND;TZID=Europe/Paris:20231218T193000
DTSTAMP:20260423T122904
CREATED:20231206T070437Z
LAST-MODIFIED:20231206T070437Z
UID:10354-1702924200-1702927800@www.centrumkocianka.cz
SUMMARY:Vánoční hra o svatém narození
DESCRIPTION:
URL:https://www.centrumkocianka.cz/akce/vanocni-hra-o-svatem-narozeni/
LOCATION:Centrum Kociánka\, Kociánka 93/2\, Brno
CATEGORIES:Události
ATTACH;FMTTYPE=image/jpeg:https://www.centrumkocianka.cz/wp-content/uploads/2023/12/Plakat_Kocianka-vanocni-hra.jpg
END:VEVENT
BEGIN:VEVENT
DTSTART;TZID=Europe/Paris:20231130T100000
DTEND;TZID=Europe/Paris:20231130T180000
DTSTAMP:20260423T122904
CREATED:20231002T083423Z
LAST-MODIFIED:20231002T083423Z
UID:10286-1701338400-1701367200@www.centrumkocianka.cz
SUMMARY:Vánoce na Kociánce
DESCRIPTION:
URL:https://www.centrumkocianka.cz/akce/vanoce-na-kociance-2/
LOCATION:Centrum Kociánka tělocvična\, Kociánka 93/2\, Brno\, 61247\, Česká republika
CATEGORIES:Události
ATTACH;FMTTYPE=image/jpeg:https://www.centrumkocianka.cz/wp-content/uploads/2023/10/VANOCE-NA-KOCIANCE2.jpg
END:VEVENT
BEGIN:VEVENT
DTSTART;TZID=Europe/Paris:20231011T090000
DTEND;TZID=Europe/Paris:20231011T113000
DTSTAMP:20260423T122904
CREATED:20231002T113923Z
LAST-MODIFIED:20231002T113923Z
UID:10290-1697014800-1697023800@www.centrumkocianka.cz
SUMMARY:Dýňování
DESCRIPTION:
URL:https://www.centrumkocianka.cz/akce/dynovani-3/
LOCATION:Centrum Kociánka zahrada\, Kociánka 93/2\, Brno
CATEGORIES:Události
ATTACH;FMTTYPE=image/jpeg:https://www.centrumkocianka.cz/wp-content/uploads/2023/10/DYNOVANI1.jpg
END:VEVENT
BEGIN:VEVENT
DTSTART;TZID=Europe/Paris:20231004T090000
DTEND;TZID=Europe/Paris:20231004T110000
DTSTAMP:20260423T122904
CREATED:20231002T114114Z
LAST-MODIFIED:20231002T114114Z
UID:10293-1696410000-1696417200@www.centrumkocianka.cz
SUMMARY:Dopoledne s STD (Týden sociálních služeb)
DESCRIPTION:
URL:https://www.centrumkocianka.cz/akce/dopoledne-s-std-tyden-socialnich-sluzeb/
LOCATION:Centrum Kociánka\, Kociánka 93/2\, Brno
CATEGORIES:Události
ATTACH;FMTTYPE=image/jpeg:https://www.centrumkocianka.cz/wp-content/uploads/2023/09/Jeden-den-s-nami-v-dilne.jpg
END:VEVENT
BEGIN:VEVENT
DTSTART;TZID=Europe/Paris:20230915T150000
DTEND;TZID=Europe/Paris:20230915T180000
DTSTAMP:20260423T122904
CREATED:20230911T112349Z
LAST-MODIFIED:20230911T112349Z
UID:10237-1694790000-1694800800@www.centrumkocianka.cz
SUMMARY:Obilňák Fest (stánek STD)
DESCRIPTION:
URL:https://www.centrumkocianka.cz/akce/obilnak-fest-stanek-std/
LOCATION:Obilní trh\, Obilní trh\, Brno\, Česká republika
CATEGORIES:Události
ATTACH;FMTTYPE=image/jpeg:https://www.centrumkocianka.cz/wp-content/uploads/2023/09/obilnak-fest-2023.jpg
END:VEVENT
BEGIN:VEVENT
DTSTART;TZID=Europe/Paris:20230908T080000
DTEND;TZID=Europe/Paris:20230908T170000
DTSTAMP:20260423T122904
CREATED:20230901T062454Z
LAST-MODIFIED:20230901T062454Z
UID:10222-1694160000-1694192400@www.centrumkocianka.cz
SUMMARY:STD výstava Semilasso
DESCRIPTION:Naše STD dílny pouze v pátek 8. září!
URL:https://www.centrumkocianka.cz/akce/std-vystava-semilasso/
LOCATION:Kulturní centrum Semilasso\, Brno
CATEGORIES:Události
ATTACH;FMTTYPE=image/jpeg:https://www.centrumkocianka.cz/wp-content/uploads/2023/09/Semilasso-1.jpg
END:VEVENT
BEGIN:VEVENT
DTSTART;TZID=Europe/Paris:20230623T133000
DTEND;TZID=Europe/Paris:20230623T190000
DTSTAMP:20260423T122904
CREATED:20230517T113703Z
LAST-MODIFIED:20230517T113703Z
UID:10013-1687527000-1687546800@www.centrumkocianka.cz
SUMMARY:Vítání léta (Březejc)
DESCRIPTION:
URL:https://www.centrumkocianka.cz/akce/vitani-leta-brezejc/
LOCATION:Jabloňov\, Jabloňov\, Vysočina\, Česká republika
CATEGORIES:Události
ATTACH;FMTTYPE=image/jpeg:https://www.centrumkocianka.cz/wp-content/uploads/2023/05/Vitani-leta-Brezejc-2023.jpg
END:VEVENT
END:VCALENDAR