BEGIN:VCALENDAR
VERSION:2.0
PRODID:-//Centrum Kociánka - ECPv6.3.5//NONSGML v1.0//EN
CALSCALE:GREGORIAN
METHOD:PUBLISH
X-ORIGINAL-URL:https://www.centrumkocianka.cz
X-WR-CALDESC:Akce na Centrum Kociánka
REFRESH-INTERVAL;VALUE=DURATION:PT1H
X-Robots-Tag:noindex
X-PUBLISHED-TTL:PT1H
BEGIN:VTIMEZONE
TZID:Europe/Prague
BEGIN:DAYLIGHT
TZOFFSETFROM:+0100
TZOFFSETTO:+0200
TZNAME:CEST
DTSTART:20260329T010000
END:DAYLIGHT
BEGIN:STANDARD
TZOFFSETFROM:+0200
TZOFFSETTO:+0100
TZNAME:CET
DTSTART:20261025T010000
END:STANDARD
END:VTIMEZONE
BEGIN:VEVENT
DTSTART;TZID=Europe/Prague:20260319T103000
DTEND;TZID=Europe/Prague:20260319T163000
DTSTAMP:20260423T105524
CREATED:20260213T104111Z
LAST-MODIFIED:20260316T063735Z
UID:14700-1773916200-1773937800@www.centrumkocianka.cz
SUMMARY:Promítání filmu Cesty Kociánkou
DESCRIPTION:  \n \nPřijďte zhlédnout dokument a medailonky jednotlivých účastníků\, našich klientů\, filmového workshopu pod vedením Petra Kačírka.
URL:https://www.centrumkocianka.cz/akce/promitani-filmu-cesty-kociankou/
END:VEVENT
END:VCALENDAR